BEGIN:VCALENDAR
PRODID:-//AT Content Types//AT Event//EN
VERSION:2.0
METHOD:PUBLISH
BEGIN:VEVENT
DTSTAMP:20260421T023438Z
CREATED:20180103T041428Z
UID:ATEvent-9edbf0eb762b48eabc0a727094d3e128
LAST-MODIFIED:20180105T024527Z
SUMMARY:Aniversario de minombre.es
DTSTART:20181110T230000Z
DTEND:20181111T230000Z
DESCRIPTION:13 años online
LOCATION:Internet
URL:https://minombre.es
CLASS:PUBLIC
END:VEVENT
END:VCALENDAR
